BEGIN:VCALENDAR
VERSION:2.0
PRODID:-//Skagway Library - ECPv6.15.20//NONSGML v1.0//EN
CALSCALE:GREGORIAN
METHOD:PUBLISH
X-WR-CALNAME:Skagway Library
X-ORIGINAL-URL:https://skagwaylibrary.com
X-WR-CALDESC:Events for Skagway Library
REFRESH-INTERVAL;VALUE=DURATION:PT1H
X-Robots-Tag:noindex
X-PUBLISHED-TTL:PT1H
BEGIN:VTIMEZONE
TZID:America/Juneau
BEGIN:DAYLIGHT
TZOFFSETFROM:-0900
TZOFFSETTO:-0800
TZNAME:AKDT
DTSTART:20250309T110000
END:DAYLIGHT
BEGIN:STANDARD
TZOFFSETFROM:-0800
TZOFFSETTO:-0900
TZNAME:AKST
DTSTART:20251102T100000
END:STANDARD
BEGIN:DAYLIGHT
TZOFFSETFROM:-0900
TZOFFSETTO:-0800
TZNAME:AKDT
DTSTART:20260308T110000
END:DAYLIGHT
BEGIN:STANDARD
TZOFFSETFROM:-0800
TZOFFSETTO:-0900
TZNAME:AKST
DTSTART:20261101T100000
END:STANDARD
BEGIN:DAYLIGHT
TZOFFSETFROM:-0900
TZOFFSETTO:-0800
TZNAME:AKDT
DTSTART:20270314T110000
END:DAYLIGHT
BEGIN:STANDARD
TZOFFSETFROM:-0800
TZOFFSETTO:-0900
TZNAME:AKST
DTSTART:20271107T100000
END:STANDARD
END:VTIMEZONE
BEGIN:VEVENT
DTSTART;TZID=America/Juneau:20260422T110000
DTEND;TZID=America/Juneau:20260422T113000
DTSTAMP:20260422T014345
CREATED:20251030T194429Z
LAST-MODIFIED:20251030T195926Z
UID:10001966-1776855600-1776857400@skagwaylibrary.com
SUMMARY:Story Time
DESCRIPTION:Songs and stories for families and kids of all ages! All are welcome.
URL:https://skagwaylibrary.com/event/story-time/2026-04-22/
LOCATION:Skagway Public Library
ATTACH;FMTTYPE=image/jpeg:https://skagwaylibrary.com/wp-content/uploads/2025/10/Fall-2025-Story-Time-1.jpg
END:VEVENT
END:VCALENDAR