BEGIN:VCALENDAR
VERSION:2.0
PRODID:-//Skagway Library - ECPv6.15.20//NONSGML v1.0//EN
CALSCALE:GREGORIAN
METHOD:PUBLISH
X-ORIGINAL-URL:https://skagwaylibrary.com
X-WR-CALDESC:Events for Skagway Library
REFRESH-INTERVAL;VALUE=DURATION:PT1H
X-Robots-Tag:noindex
X-PUBLISHED-TTL:PT1H
BEGIN:VTIMEZONE
TZID:America/Toronto
BEGIN:DAYLIGHT
TZOFFSETFROM:-0500
TZOFFSETTO:-0400
TZNAME:EDT
DTSTART:20210314T070000
END:DAYLIGHT
BEGIN:STANDARD
TZOFFSETFROM:-0400
TZOFFSETTO:-0500
TZNAME:EST
DTSTART:20211107T060000
END:STANDARD
BEGIN:DAYLIGHT
TZOFFSETFROM:-0500
TZOFFSETTO:-0400
TZNAME:EDT
DTSTART:20220313T070000
END:DAYLIGHT
BEGIN:STANDARD
TZOFFSETFROM:-0400
TZOFFSETTO:-0500
TZNAME:EST
DTSTART:20221106T060000
END:STANDARD
BEGIN:DAYLIGHT
TZOFFSETFROM:-0500
TZOFFSETTO:-0400
TZNAME:EDT
DTSTART:20230312T070000
END:DAYLIGHT
BEGIN:STANDARD
TZOFFSETFROM:-0400
TZOFFSETTO:-0500
TZNAME:EST
DTSTART:20231105T060000
END:STANDARD
BEGIN:DAYLIGHT
TZOFFSETFROM:-0500
TZOFFSETTO:-0400
TZNAME:EDT
DTSTART:20240310T070000
END:DAYLIGHT
BEGIN:STANDARD
TZOFFSETFROM:-0400
TZOFFSETTO:-0500
TZNAME:EST
DTSTART:20241103T060000
END:STANDARD
END:VTIMEZONE
BEGIN:VEVENT
DTSTART;TZID=America/Toronto:20230312T150000
DTEND;TZID=America/Toronto:20230312T170000
DTSTAMP:20260419T181539
CREATED:20230301T223033Z
LAST-MODIFIED:20230301T223033Z
UID:10000631-1678633200-1678640400@skagwaylibrary.com
SUMMARY:March Film Club: "Moonlight"
DESCRIPTION:
URL:https://skagwaylibrary.com/event/march-film-club-moonlight/
END:VEVENT
BEGIN:VEVENT
DTSTART;TZID=America/Toronto:20230115T140000
DTEND;TZID=America/Toronto:20230115T160000
DTSTAMP:20260419T181539
CREATED:20221215T204959Z
LAST-MODIFIED:20221215T224156Z
UID:10000004-1673791200-1673798400@skagwaylibrary.com
SUMMARY:Give & Take Cafe
DESCRIPTION:Swap kids clothes & toys with other parents!
URL:https://skagwaylibrary.com/event/give-take-cafe/
ATTACH;FMTTYPE=image/jpeg:https://skagwaylibrary.com/wp-content/uploads/2022/12/Skagway-Parents-11-×-8.5-in-Presentation-169-Presentation-169-1.jpg
END:VEVENT
BEGIN:VEVENT
DTSTART;VALUE=DATE:20221101
DTEND;VALUE=DATE:20230301
DTSTAMP:20260419T181539
CREATED:20220929T230048Z
LAST-MODIFIED:20221215T223700Z
UID:10000002-1667260800-1677628799@skagwaylibrary.com
SUMMARY:Book BINGO
DESCRIPTION:It’s never too late to join in!  Come on into the library & start working on a BINGO today!
URL:https://skagwaylibrary.com/event/late-night-library-face-painting/
ATTACH;FMTTYPE=image/png:https://skagwaylibrary.com/wp-content/uploads/2022/09/Add-a-heading-11-x-17-in-Presentation-169.png
END:VEVENT
END:VCALENDAR