BEGIN:VCALENDAR
VERSION:2.0
PRODID:-//Skagway Library - ECPv6.15.20//NONSGML v1.0//EN
CALSCALE:GREGORIAN
METHOD:PUBLISH
X-ORIGINAL-URL:https://skagwaylibrary.com
X-WR-CALDESC:Events for Skagway Library
REFRESH-INTERVAL;VALUE=DURATION:PT1H
X-Robots-Tag:noindex
X-PUBLISHED-TTL:PT1H
BEGIN:VTIMEZONE
TZID:America/Juneau
BEGIN:DAYLIGHT
TZOFFSETFROM:-0900
TZOFFSETTO:-0800
TZNAME:AKDT
DTSTART:20240310T110000
END:DAYLIGHT
BEGIN:STANDARD
TZOFFSETFROM:-0800
TZOFFSETTO:-0900
TZNAME:AKST
DTSTART:20241103T100000
END:STANDARD
BEGIN:DAYLIGHT
TZOFFSETFROM:-0900
TZOFFSETTO:-0800
TZNAME:AKDT
DTSTART:20250309T110000
END:DAYLIGHT
BEGIN:STANDARD
TZOFFSETFROM:-0800
TZOFFSETTO:-0900
TZNAME:AKST
DTSTART:20251102T100000
END:STANDARD
BEGIN:DAYLIGHT
TZOFFSETFROM:-0900
TZOFFSETTO:-0800
TZNAME:AKDT
DTSTART:20260308T110000
END:DAYLIGHT
BEGIN:STANDARD
TZOFFSETFROM:-0800
TZOFFSETTO:-0900
TZNAME:AKST
DTSTART:20261101T100000
END:STANDARD
END:VTIMEZONE
BEGIN:VEVENT
DTSTART;TZID=America/Juneau:20250427T120000
DTEND;TZID=America/Juneau:20250427T170000
DTSTAMP:20260419T165326
CREATED:20250409T201804Z
LAST-MODIFIED:20250409T202239Z
UID:10001841-1745755200-1745773200@skagwaylibrary.com
SUMMARY:Sensory Corner Community Opening
DESCRIPTION:Thanks to the Libraries Transforming Communities: Accessible Small and Rural Communities grant\, the Skagway Public Library’s new Sensory Corner is officially open in the Children’s Room!! Visitors are welcome to come in and check out the new color tiles\, felt board\, busy boards\, fidget toys\, noise-cancelling headphones\, light table\, and more anytime the library is open!\n\nThere will also be designated “Sensory Time” on the last Sunday of every month; this will include dim lights\, special sensory lighting\, and extra sensory toys during the library’s open hours that day.\n\nFor the first Sensory Sunday on Sunday\, April 27th\, join us in celebrating this new space! Come check out the new additions\, enjoy some treats\, and celebrate the library as a safe and comfortable place for everyone!\n\n** Libraries Transforming Communities: Accessible Small and Rural Communities is an initiative of the American Library Association (ALA) in collaboration with the Association for Rural & Small Libraries (ARSL).
URL:https://skagwaylibrary.com/event/sensory-corner-community-opening/
LOCATION:Skagway Public Library
CATEGORIES:Programming
ATTACH;FMTTYPE=image/jpeg:https://skagwaylibrary.com/wp-content/uploads/2025/04/Sensory-Corner-Flyer-with-acknowledgement.jpg
END:VEVENT
END:VCALENDAR