BEGIN:VCALENDAR
VERSION:2.0
PRODID:-//Skagway Library - ECPv6.15.20//NONSGML v1.0//EN
CALSCALE:GREGORIAN
METHOD:PUBLISH
X-WR-CALNAME:Skagway Library
X-ORIGINAL-URL:https://skagwaylibrary.com
X-WR-CALDESC:Events for Skagway Library
REFRESH-INTERVAL;VALUE=DURATION:PT1H
X-Robots-Tag:noindex
X-PUBLISHED-TTL:PT1H
BEGIN:VTIMEZONE
TZID:America/Juneau
BEGIN:DAYLIGHT
TZOFFSETFROM:-0900
TZOFFSETTO:-0800
TZNAME:AKDT
DTSTART:20240310T110000
END:DAYLIGHT
BEGIN:STANDARD
TZOFFSETFROM:-0800
TZOFFSETTO:-0900
TZNAME:AKST
DTSTART:20241103T100000
END:STANDARD
BEGIN:DAYLIGHT
TZOFFSETFROM:-0900
TZOFFSETTO:-0800
TZNAME:AKDT
DTSTART:20250309T110000
END:DAYLIGHT
BEGIN:STANDARD
TZOFFSETFROM:-0800
TZOFFSETTO:-0900
TZNAME:AKST
DTSTART:20251102T100000
END:STANDARD
BEGIN:DAYLIGHT
TZOFFSETFROM:-0900
TZOFFSETTO:-0800
TZNAME:AKDT
DTSTART:20260308T110000
END:DAYLIGHT
BEGIN:STANDARD
TZOFFSETFROM:-0800
TZOFFSETTO:-0900
TZNAME:AKST
DTSTART:20261101T100000
END:STANDARD
END:VTIMEZONE
BEGIN:VEVENT
DTSTART;TZID=America/Juneau:20251213T130000
DTEND;TZID=America/Juneau:20251213T150000
DTSTAMP:20260421T181117
CREATED:20251027T222258Z
LAST-MODIFIED:20251027T222258Z
UID:10001940-1765630800-1765638000@skagwaylibrary.com
SUMMARY:Jane Austen Birthday Tea Party
DESCRIPTION:Jane Austen would have been 250 years old on December 16\, 2025\, so to honor one of our favorite writers\, we are throwing her a 250th birthday party! Stop by the library’s Community Room between 1:00 and 3:00 pm on Saturday\, December 13th for tea\, treats\, and Austen-themed activities to celebrate Ms. Austen’s incredible legacy.
URL:https://skagwaylibrary.com/event/jane-austen-birthday-tea-party/
LOCATION:Skagway Public Library
ATTACH;FMTTYPE=image/jpeg:https://skagwaylibrary.com/wp-content/uploads/2025/10/Jane-Austen-Birthday-Tea-Party-121325.jpg
END:VEVENT
BEGIN:VEVENT
DTSTART;TZID=America/Juneau:20251220T103000
DTEND;TZID=America/Juneau:20251220T113000
DTSTAMP:20260421T181117
CREATED:20251027T220431Z
LAST-MODIFIED:20251027T220431Z
UID:10001939-1766226600-1766230200@skagwaylibrary.com
SUMMARY:Holiday Story Time
DESCRIPTION:Join us for a festive story time as we celebrate the most wonderful time of the year! Families and little ones of all ages are welcome to join us at 10:30 am in the Skagway Public Library for holiday cheer with Ms. Rachel.
URL:https://skagwaylibrary.com/event/holiday-story-time-2025/
LOCATION:Skagway Public Library
CATEGORIES:Programming
ATTACH;FMTTYPE=image/png:https://skagwaylibrary.com/wp-content/uploads/2025/10/Holiday-Story-Time-2025.png
END:VEVENT
BEGIN:VEVENT
DTSTART;TZID=America/Juneau:20251220T110000
DTEND;TZID=America/Juneau:20251220T130000
DTSTAMP:20260421T181117
CREATED:20251030T223412Z
LAST-MODIFIED:20251030T223412Z
UID:10002204-1766228400-1766235600@skagwaylibrary.com
SUMMARY:Kids' Holiday Gift-Making
DESCRIPTION:Kids of all ages are invited to stop by the Community Room for some holiday crafting fun! Craft supplies and festive materials will be available\, so let your imagination run wild and make a special\, handmade gift.
URL:https://skagwaylibrary.com/event/kids-holiday-gift-making-2025/
LOCATION:Skagway Public Library
ATTACH;FMTTYPE=image/png:https://skagwaylibrary.com/wp-content/uploads/2025/10/Kids-Holiday-Gift-Making-2025.png
END:VEVENT
BEGIN:VEVENT
DTSTART;TZID=America/Juneau:20251220T130000
DTEND;TZID=America/Juneau:20251220T150000
DTSTAMP:20260421T181117
CREATED:20251030T222638Z
LAST-MODIFIED:20251030T222638Z
UID:10002203-1766235600-1766242800@skagwaylibrary.com
SUMMARY:Holiday Wreath Workshop-2025
DESCRIPTION:Library staff are ready to help guide you through the steps of making a beautiful\, festive wreath with repurposed materials and craft supplies. Stop by the library Community Room between 1:00 and 3:00 pm for some festive fun! All ages are welcome\, but adult supervision is encouraged for those 10 years old and under.
URL:https://skagwaylibrary.com/event/holiday-wreath-workshop-2025/
LOCATION:Skagway Public Library
CATEGORIES:Programming
ATTACH;FMTTYPE=image/png:https://skagwaylibrary.com/wp-content/uploads/2025/10/Holiday-Wreath-Workshop-2025.png
END:VEVENT
END:VCALENDAR