BEGIN:VCALENDAR
VERSION:2.0
PRODID:-//Skagway Library - ECPv6.15.20//NONSGML v1.0//EN
CALSCALE:GREGORIAN
METHOD:PUBLISH
X-ORIGINAL-URL:https://skagwaylibrary.com
X-WR-CALDESC:Events for Skagway Library
REFRESH-INTERVAL;VALUE=DURATION:PT1H
X-Robots-Tag:noindex
X-PUBLISHED-TTL:PT1H
BEGIN:VTIMEZONE
TZID:America/Juneau
BEGIN:DAYLIGHT
TZOFFSETFROM:-0900
TZOFFSETTO:-0800
TZNAME:AKDT
DTSTART:20240310T110000
END:DAYLIGHT
BEGIN:STANDARD
TZOFFSETFROM:-0800
TZOFFSETTO:-0900
TZNAME:AKST
DTSTART:20241103T100000
END:STANDARD
BEGIN:DAYLIGHT
TZOFFSETFROM:-0900
TZOFFSETTO:-0800
TZNAME:AKDT
DTSTART:20250309T110000
END:DAYLIGHT
BEGIN:STANDARD
TZOFFSETFROM:-0800
TZOFFSETTO:-0900
TZNAME:AKST
DTSTART:20251102T100000
END:STANDARD
BEGIN:DAYLIGHT
TZOFFSETFROM:-0900
TZOFFSETTO:-0800
TZNAME:AKDT
DTSTART:20260308T110000
END:DAYLIGHT
BEGIN:STANDARD
TZOFFSETFROM:-0800
TZOFFSETTO:-0900
TZNAME:AKST
DTSTART:20261101T100000
END:STANDARD
BEGIN:DAYLIGHT
TZOFFSETFROM:-0900
TZOFFSETTO:-0800
TZNAME:AKDT
DTSTART:20270314T110000
END:DAYLIGHT
BEGIN:STANDARD
TZOFFSETFROM:-0800
TZOFFSETTO:-0900
TZNAME:AKST
DTSTART:20271107T100000
END:STANDARD
END:VTIMEZONE
BEGIN:VEVENT
DTSTART;TZID=America/Juneau:20260418T130000
DTEND;TZID=America/Juneau:20260418T150000
DTSTAMP:20260419T143353
CREATED:20260318T001835Z
LAST-MODIFIED:20260318T001835Z
UID:10002219-1776517200-1776524400@skagwaylibrary.com
SUMMARY:Crepe Flower Workshop
DESCRIPTION:Come craft your own floral masterpiece – no green thumb required!
URL:https://skagwaylibrary.com/event/crepe-flower-workshop/
LOCATION:Skagway Public Library
ATTACH;FMTTYPE=image/png:https://skagwaylibrary.com/wp-content/uploads/2026/03/Crepe-Flower-Workshop-Flyer-4.2026.png
END:VEVENT
BEGIN:VEVENT
DTSTART;TZID=America/Juneau:20250814T103000
DTEND;TZID=America/Juneau:20250814T113000
DTSTAMP:20260419T143353
CREATED:20250530T005637Z
LAST-MODIFIED:20250530T005638Z
UID:10001864-1755167400-1755171000@skagwaylibrary.com
SUMMARY:Games at Winter's Veil Cards & Games (Summer Reading Program 2025)
DESCRIPTION:Drop-off and pick-up will be at the library\, but we’ll be walking down to Winter’s Veil Cards & Games (Lumberchaun Axe-Throwing) to learn from the experts about table-top games like Dungeons & Dragons and Magic The Gathering.\n\nThis year’s Summer Reading Program theme\, “Level Up at Your Library\,” emphasizes the joys of games and play\, both in and outside the library. Thursday morning SRP activities are for kids aged 6-12 years old. All are welcome and no registration is required.
URL:https://skagwaylibrary.com/event/summer-reading-program-11/
LOCATION:Skagway Public Library
CATEGORIES:Summer Reading Program
ATTACH;FMTTYPE=image/jpeg:https://skagwaylibrary.com/wp-content/uploads/2025/05/Games-at-Winter-Veil-Cards-Games-jpg.jpg
END:VEVENT
BEGIN:VEVENT
DTSTART;TZID=America/Juneau:20250523T180000
DTEND;TZID=America/Juneau:20250523T190000
DTSTAMP:20260419T143353
CREATED:20250523T010351Z
LAST-MODIFIED:20250523T010351Z
UID:10001852-1748023200-1748026800@skagwaylibrary.com
SUMMARY:Late Night Library
DESCRIPTION:
URL:https://skagwaylibrary.com/event/late-night-library-18/
LOCATION:Skagway Public Library
CATEGORIES:Late Night Library
ATTACH;FMTTYPE=image/jpeg:https://skagwaylibrary.com/wp-content/uploads/2025/05/Free-choice-lnl.jpg
END:VEVENT
END:VCALENDAR