BEGIN:VCALENDAR
VERSION:2.0
PRODID:-//Skagway Library - ECPv6.15.20//NONSGML v1.0//EN
CALSCALE:GREGORIAN
METHOD:PUBLISH
X-ORIGINAL-URL:https://skagwaylibrary.com
X-WR-CALDESC:Events for Skagway Library
REFRESH-INTERVAL;VALUE=DURATION:PT1H
X-Robots-Tag:noindex
X-PUBLISHED-TTL:PT1H
BEGIN:VTIMEZONE
TZID:America/Juneau
BEGIN:DAYLIGHT
TZOFFSETFROM:-0900
TZOFFSETTO:-0800
TZNAME:AKDT
DTSTART:20240310T110000
END:DAYLIGHT
BEGIN:STANDARD
TZOFFSETFROM:-0800
TZOFFSETTO:-0900
TZNAME:AKST
DTSTART:20241103T100000
END:STANDARD
BEGIN:DAYLIGHT
TZOFFSETFROM:-0900
TZOFFSETTO:-0800
TZNAME:AKDT
DTSTART:20250309T110000
END:DAYLIGHT
BEGIN:STANDARD
TZOFFSETFROM:-0800
TZOFFSETTO:-0900
TZNAME:AKST
DTSTART:20251102T100000
END:STANDARD
BEGIN:DAYLIGHT
TZOFFSETFROM:-0900
TZOFFSETTO:-0800
TZNAME:AKDT
DTSTART:20260308T110000
END:DAYLIGHT
BEGIN:STANDARD
TZOFFSETFROM:-0800
TZOFFSETTO:-0900
TZNAME:AKST
DTSTART:20261101T100000
END:STANDARD
END:VTIMEZONE
BEGIN:VEVENT
DTSTART;TZID=America/Juneau:20250605T103000
DTEND;TZID=America/Juneau:20250605T113000
DTSTAMP:20260419T225323
CREATED:20250527T213440Z
LAST-MODIFIED:20250530T190543Z
UID:10001854-1749119400-1749123000@skagwaylibrary.com
SUMMARY:Library Scavenger Hunt (Summer Reading Program 2025)
DESCRIPTION:Play detective by finding clues around the library and help us solve the mystery…\n\nThis year’s Summer Reading Program theme\, “Level Up at Your Library\,” emphasizes the joys of games and play\, both in and outside the library. Thursday morning SRP activities are for kids aged 6-12 years old. All are welcome and no registration is required.
URL:https://skagwaylibrary.com/event/srp-2025-scavenger-hunt/
LOCATION:Skagway Public Library
CATEGORIES:Summer Reading Program
ATTACH;FMTTYPE=image/jpeg:https://skagwaylibrary.com/wp-content/uploads/2025/05/Scavenger-Hunt-jpg.jpg
END:VEVENT
BEGIN:VEVENT
DTSTART;TZID=America/Juneau:20250612T103000
DTEND;TZID=America/Juneau:20250612T113000
DTSTAMP:20260419T225323
CREATED:20250529T200127Z
LAST-MODIFIED:20250530T005000Z
UID:10001855-1749724200-1749727800@skagwaylibrary.com
SUMMARY:Drama Games with the Days of '98 (Summer Reading Program 2025)
DESCRIPTION:
URL:https://skagwaylibrary.com/event/summer-reading-program-3/
LOCATION:Skagway Public Library
CATEGORIES:Summer Reading Program
ATTACH;FMTTYPE=image/jpeg:https://skagwaylibrary.com/wp-content/uploads/2025/05/Days-of-98-jpg.jpg
END:VEVENT
BEGIN:VEVENT
DTSTART;TZID=America/Juneau:20250626T103000
DTEND;TZID=America/Juneau:20250626T113000
DTSTAMP:20260419T225323
CREATED:20250530T002553Z
LAST-MODIFIED:20250530T002554Z
UID:10001857-1750933800-1750937400@skagwaylibrary.com
SUMMARY:Geocaching (Summer Reading Program 2025)
DESCRIPTION:Come learn about the real-life treasure hunt that is geocaching! We’ll talk about what it is\, how to read a map\, how you can find caches all around the world\, and uncover some caches right here in Skagway.\n\nThis year’s Summer Reading Program theme\, “Level Up at Your Library\,” emphasizes the joys of games and play\, both in and outside the library. Thursday morning SRP activities are for kids aged 6-12 years old. All are welcome and no registration is required.
URL:https://skagwaylibrary.com/event/summer-reading-program-5/
LOCATION:Skagway Public Library
CATEGORIES:Summer Reading Program
ATTACH;FMTTYPE=image/jpeg:https://skagwaylibrary.com/wp-content/uploads/2025/05/Geocaching-jpg.jpg
END:VEVENT
END:VCALENDAR