BEGIN:VCALENDAR
VERSION:2.0
PRODID:-//Skagway Library - ECPv6.15.20//NONSGML v1.0//EN
CALSCALE:GREGORIAN
METHOD:PUBLISH
X-WR-CALNAME:Skagway Library
X-ORIGINAL-URL:https://skagwaylibrary.com
X-WR-CALDESC:Events for Skagway Library
REFRESH-INTERVAL;VALUE=DURATION:PT1H
X-Robots-Tag:noindex
X-PUBLISHED-TTL:PT1H
BEGIN:VTIMEZONE
TZID:America/Juneau
BEGIN:DAYLIGHT
TZOFFSETFROM:-0900
TZOFFSETTO:-0800
TZNAME:AKDT
DTSTART:20240310T110000
END:DAYLIGHT
BEGIN:STANDARD
TZOFFSETFROM:-0800
TZOFFSETTO:-0900
TZNAME:AKST
DTSTART:20241103T100000
END:STANDARD
BEGIN:DAYLIGHT
TZOFFSETFROM:-0900
TZOFFSETTO:-0800
TZNAME:AKDT
DTSTART:20250309T110000
END:DAYLIGHT
BEGIN:STANDARD
TZOFFSETFROM:-0800
TZOFFSETTO:-0900
TZNAME:AKST
DTSTART:20251102T100000
END:STANDARD
BEGIN:DAYLIGHT
TZOFFSETFROM:-0900
TZOFFSETTO:-0800
TZNAME:AKDT
DTSTART:20260308T110000
END:DAYLIGHT
BEGIN:STANDARD
TZOFFSETFROM:-0800
TZOFFSETTO:-0900
TZNAME:AKST
DTSTART:20261101T100000
END:STANDARD
END:VTIMEZONE
BEGIN:VEVENT
DTSTART;TZID=America/Juneau:20251213T130000
DTEND;TZID=America/Juneau:20251213T150000
DTSTAMP:20260421T072953
CREATED:20251027T222258Z
LAST-MODIFIED:20251027T222258Z
UID:10001940-1765630800-1765638000@skagwaylibrary.com
SUMMARY:Jane Austen Birthday Tea Party
DESCRIPTION:Jane Austen would have been 250 years old on December 16\, 2025\, so to honor one of our favorite writers\, we are throwing her a 250th birthday party! Stop by the library’s Community Room between 1:00 and 3:00 pm on Saturday\, December 13th for tea\, treats\, and Austen-themed activities to celebrate Ms. Austen’s incredible legacy.
URL:https://skagwaylibrary.com/event/jane-austen-birthday-tea-party/
LOCATION:Skagway Public Library
ATTACH;FMTTYPE=image/jpeg:https://skagwaylibrary.com/wp-content/uploads/2025/10/Jane-Austen-Birthday-Tea-Party-121325.jpg
END:VEVENT
END:VCALENDAR