BEGIN:VCALENDAR
VERSION:2.0
PRODID:-//Skagway Library - ECPv6.15.20//NONSGML v1.0//EN
CALSCALE:GREGORIAN
METHOD:PUBLISH
X-ORIGINAL-URL:https://skagwaylibrary.com
X-WR-CALDESC:Events for Skagway Library
REFRESH-INTERVAL;VALUE=DURATION:PT1H
X-Robots-Tag:noindex
X-PUBLISHED-TTL:PT1H
BEGIN:VTIMEZONE
TZID:America/Juneau
BEGIN:DAYLIGHT
TZOFFSETFROM:-0900
TZOFFSETTO:-0800
TZNAME:AKDT
DTSTART:20230312T110000
END:DAYLIGHT
BEGIN:STANDARD
TZOFFSETFROM:-0800
TZOFFSETTO:-0900
TZNAME:AKST
DTSTART:20231105T100000
END:STANDARD
BEGIN:DAYLIGHT
TZOFFSETFROM:-0900
TZOFFSETTO:-0800
TZNAME:AKDT
DTSTART:20240310T110000
END:DAYLIGHT
BEGIN:STANDARD
TZOFFSETFROM:-0800
TZOFFSETTO:-0900
TZNAME:AKST
DTSTART:20241103T100000
END:STANDARD
BEGIN:DAYLIGHT
TZOFFSETFROM:-0900
TZOFFSETTO:-0800
TZNAME:AKDT
DTSTART:20250309T110000
END:DAYLIGHT
BEGIN:STANDARD
TZOFFSETFROM:-0800
TZOFFSETTO:-0900
TZNAME:AKST
DTSTART:20251102T100000
END:STANDARD
BEGIN:DAYLIGHT
TZOFFSETFROM:-0900
TZOFFSETTO:-0800
TZNAME:AKDT
DTSTART:20260308T110000
END:DAYLIGHT
BEGIN:STANDARD
TZOFFSETFROM:-0800
TZOFFSETTO:-0900
TZNAME:AKST
DTSTART:20261101T100000
END:STANDARD
END:VTIMEZONE
BEGIN:VEVENT
DTSTART;TZID=America/Juneau:20251213T130000
DTEND;TZID=America/Juneau:20251213T150000
DTSTAMP:20260421T043619
CREATED:20251027T222258Z
LAST-MODIFIED:20251027T222258Z
UID:10001940-1765630800-1765638000@skagwaylibrary.com
SUMMARY:Jane Austen Birthday Tea Party
DESCRIPTION:Jane Austen would have been 250 years old on December 16\, 2025\, so to honor one of our favorite writers\, we are throwing her a 250th birthday party! Stop by the library’s Community Room between 1:00 and 3:00 pm on Saturday\, December 13th for tea\, treats\, and Austen-themed activities to celebrate Ms. Austen’s incredible legacy.
URL:https://skagwaylibrary.com/event/jane-austen-birthday-tea-party/
LOCATION:Skagway Public Library
ATTACH;FMTTYPE=image/jpeg:https://skagwaylibrary.com/wp-content/uploads/2025/10/Jane-Austen-Birthday-Tea-Party-121325.jpg
END:VEVENT
BEGIN:VEVENT
DTSTART;TZID=America/Juneau:20250817T130000
DTEND;TZID=America/Juneau:20250817T150000
DTSTAMP:20260421T043619
CREATED:20250718T211052Z
LAST-MODIFIED:20250814T183638Z
UID:10001921-1755435600-1755442800@skagwaylibrary.com
SUMMARY:POSTPONED: Harriet Pullen's Birthday Tea Party
DESCRIPTION:*** Unfortunately\, due to unforeseen circumstances\, we must postpone the Harriet Pullen Birthday Tea Party. We will advertise the new date as soon as we have information to share. Thank you for your understanding! ***\n\n___\n\nTo celebrate this great Skagway legend and to mark what would have been her 165th birthday\, the Skagway Public Library is hosting its 3rd annual Harriet Pullen Birthday Tea Party! On Sunday\, August 17th\, stop by the library’s Community Room between 1:00 and 3:00 pm to enjoy a variety of teas and to taste treats that were once included on the Pullen House menu.\n\nQuestions? Feel free to call the library at (907) 983-2665 or email library@skagway.org.
URL:https://skagwaylibrary.com/event/harriet-pullen-tea-2025/
LOCATION:Skagway Public Library
ATTACH;FMTTYPE=image/jpeg:https://skagwaylibrary.com/wp-content/uploads/2025/07/Harriet-Pullens-Birthday-2025.jpg
END:VEVENT
BEGIN:VEVENT
DTSTART;TZID=America/Juneau:20250209T130000
DTEND;TZID=America/Juneau:20250209T150000
DTSTAMP:20260421T043619
CREATED:20250123T012655Z
LAST-MODIFIED:20250123T012655Z
UID:10001235-1739106000-1739113200@skagwaylibrary.com
SUMMARY:Tea Tasting Party
DESCRIPTION:A tea party made up of Skagway’s favorite teas!\nBring your favorite tea (bag or loose leaf)\, we’ll brew it\, then share with others. Bring your own mug to sample the selection and discover a new favorite!\n(Got an extra teapot lying around? Please do bring it too – we’ll need lots!)
URL:https://skagwaylibrary.com/event/tea-tasting-party/
LOCATION:Skagway Public Library
CATEGORIES:Programming
END:VEVENT
BEGIN:VEVENT
DTSTART;TZID=America/Juneau:20240818T130000
DTEND;TZID=America/Juneau:20240818T150000
DTSTAMP:20260421T043619
CREATED:20240711T223618Z
LAST-MODIFIED:20240711T223618Z
UID:10001202-1723986000-1723993200@skagwaylibrary.com
SUMMARY:Harriet Pullen's Birthday Tea Party
DESCRIPTION:Come celebrate the 164th anniversary of this Skagway icon’s birth! On Sunday\, August 18th\, the Skagway Public Library will be hosting the 2nd annual Harriet Pullen Birthday Tea Party\, a few days on from her August 13th birthday. Join us in the Community Room for tea\, treats\, and history!
URL:https://skagwaylibrary.com/event/harriet-pullens-birthday-tea-party/
LOCATION:Skagway Public Library
CATEGORIES:Programming
ATTACH;FMTTYPE=image/png:https://skagwaylibrary.com/wp-content/uploads/2024/07/Harriet-Pullens-Birthday-2024.png
END:VEVENT
END:VCALENDAR