BEGIN:VCALENDAR
VERSION:2.0
PRODID:-//Skagway Library - ECPv6.15.20//NONSGML v1.0//EN
CALSCALE:GREGORIAN
METHOD:PUBLISH
X-ORIGINAL-URL:https://skagwaylibrary.com
X-WR-CALDESC:Events for Skagway Library
REFRESH-INTERVAL;VALUE=DURATION:PT1H
X-Robots-Tag:noindex
X-PUBLISHED-TTL:PT1H
BEGIN:VTIMEZONE
TZID:America/Juneau
BEGIN:DAYLIGHT
TZOFFSETFROM:-0900
TZOFFSETTO:-0800
TZNAME:AKDT
DTSTART:20240310T110000
END:DAYLIGHT
BEGIN:STANDARD
TZOFFSETFROM:-0800
TZOFFSETTO:-0900
TZNAME:AKST
DTSTART:20241103T100000
END:STANDARD
BEGIN:DAYLIGHT
TZOFFSETFROM:-0900
TZOFFSETTO:-0800
TZNAME:AKDT
DTSTART:20250309T110000
END:DAYLIGHT
BEGIN:STANDARD
TZOFFSETFROM:-0800
TZOFFSETTO:-0900
TZNAME:AKST
DTSTART:20251102T100000
END:STANDARD
BEGIN:DAYLIGHT
TZOFFSETFROM:-0900
TZOFFSETTO:-0800
TZNAME:AKDT
DTSTART:20260308T110000
END:DAYLIGHT
BEGIN:STANDARD
TZOFFSETFROM:-0800
TZOFFSETTO:-0900
TZNAME:AKST
DTSTART:20261101T100000
END:STANDARD
END:VTIMEZONE
BEGIN:VEVENT
DTSTART;TZID=America/Juneau:20250427T133000
DTEND;TZID=America/Juneau:20250427T143000
DTSTAMP:20260423T003521
CREATED:20250228T204421Z
LAST-MODIFIED:20250408T182057Z
UID:10001534-1745760600-1745764200@skagwaylibrary.com
SUMMARY:Tournament of Books: The Final Vote
DESCRIPTION:Help us to wrap up this year’s Tournament of Books as we debate the two finalists\, discuss the eight books from the shortlist\, and vote to crown a Tournament champion!
URL:https://skagwaylibrary.com/event/2025-tournament-of-books-final-vote/
LOCATION:Skagway Public Library
CATEGORIES:Programming
ATTACH;FMTTYPE=image/png:https://skagwaylibrary.com/wp-content/uploads/2025/02/TOB-2025-FINAL-ROUND.png
END:VEVENT
END:VCALENDAR